BEGIN:VCALENDAR
VERSION:2.0
PRODID:-//wp-events-plugin.com//7.2.3.1//EN
TZID:Europe/London
X-WR-TIMEZONE:Europe/London
BEGIN:VEVENT
UID:0-35@sirjohntalbots.co.uk
DTSTART;TZID=Europe/London:20260227T020000
DTEND;TZID=Europe/London:20260303T020000
DTSTAMP:20260219T100431Z
URL:https://sirjohntalbots.co.uk/events/krakow-auschwitz-birkenau-sixth-fo
 rm-study-tour/
SUMMARY:Krakow Auschwitz-Birkenau Sixth Form study tour
DESCRIPTION:
ATTACH;FMTTYPE=image/jpeg:https://sirjohntalbots.co.uk/wp-content/uploads/
 sites/2/2026/02/P1020907-1.jpg
CATEGORIES:Trips
END:VEVENT
BEGIN:VTIMEZONE
TZID:Europe/London
X-LIC-LOCATION:Europe/London
BEGIN:STANDARD
DTSTART:20251026T010000
TZOFFSETFROM:+0100
TZOFFSETTO:+0000
TZNAME:GMT
END:STANDARD
END:VTIMEZONE
END:VCALENDAR